BEGIN:VCALENDAR
VERSION:2.0
PRODID:-//eventon.com NONSGML v1.0//EN
CALSCALE:GREGORIAN
METHOD:PUBLISH
BEGIN:VEVENT
UID:69ecd60130e6d
DTSTAMP:20260425T145601Z
DTSTART:20260425T120000Z
DTEND:20260425T153000Z
LOCATION:Fotballhallen
SUMMARY:XTRA
DESCRIPTION:\nhttps://mjondalshallen.no/arrangementer/xtra-4/
URL:https://mjondalshallen.no/arrangementer/xtra-4/
END:VEVENT
END:VCALENDAR