BEGIN:VCALENDAR
VERSION:2.0
PRODID:-//eventon.com NONSGML v1.0//EN
CALSCALE:GREGORIAN
METHOD:PUBLISH
BEGIN:VEVENT
UID:69eaa55ebd3c2
DTSTAMP:20260423T230358Z
DTSTART:20260528T120000Z
DTEND:20260528T140000Z
LOCATION:Flerbrukshallen
SUMMARY:MJØNDALEN IF IFO
DESCRIPTION:\nhttps://mjondalshallen.no/arrangementer/mjondalen-if-ifo-2/va
 r/ri-15.l-L1
URL:https://mjondalshallen.no/arrangementer/mjondalen-if-ifo-2/var/ri-15.l-L1
END:VEVENT
END:VCALENDAR