BEGIN:VCALENDAR
VERSION:2.0
PRODID:-//eventon.com NONSGML v1.0//EN
CALSCALE:GREGORIAN
METHOD:PUBLISH
BEGIN:VEVENT
UID:69ea927725e2e
DTSTAMP:20260423T214319Z
DTSTART:20260521T120000Z
DTEND:20260521T140000Z
LOCATION:Flerbrukshallen
SUMMARY:MJØNDALEN IF IFO
DESCRIPTION:\nhttps://mjondalshallen.no/arrangementer/mjondalen-if-ifo-2/va
 r/ri-14.l-L1
URL:https://mjondalshallen.no/arrangementer/mjondalen-if-ifo-2/var/ri-14.l-L1
END:VEVENT
END:VCALENDAR