BEGIN:VCALENDAR
VERSION:2.0
PRODID:-//eventon.com NONSGML v1.0//EN
CALSCALE:GREGORIAN
METHOD:PUBLISH
BEGIN:VEVENT
UID:69ea4658cc231
DTSTAMP:20260423T161832Z
DTSTART:20260430T120000Z
DTEND:20260430T140000Z
LOCATION:Flerbrukshallen
SUMMARY:MJØNDALEN IF IFO
DESCRIPTION:\nhttps://mjondalshallen.no/arrangementer/mjondalen-if-ifo-2/va
 r/ri-11.l-L1
URL:https://mjondalshallen.no/arrangementer/mjondalen-if-ifo-2/var/ri-11.l-L1
END:VEVENT
END:VCALENDAR