BEGIN:VCALENDAR
VERSION:2.0
PRODID:-//eventon.com NONSGML v1.0//EN
CALSCALE:GREGORIAN
METHOD:PUBLISH
BEGIN:VEVENT
UID:69ea1483d09d8
DTSTAMP:20260423T124555Z
DTSTART:20260423T120000Z
DTEND:20260423T140000Z
LOCATION:Flerbrukshallen
SUMMARY:MJØNDALEN IF IFO
DESCRIPTION:\nhttps://mjondalshallen.no/arrangementer/mjondalen-if-ifo-2/va
 r/ri-10.l-L1
URL:https://mjondalshallen.no/arrangementer/mjondalen-if-ifo-2/var/ri-10.l-L1
END:VEVENT
END:VCALENDAR