BEGIN:VCALENDAR
VERSION:2.0
PRODID:-//eventon.com NONSGML v1.0//EN
CALSCALE:GREGORIAN
METHOD:PUBLISH
BEGIN:VEVENT
UID:69e7629f7e7d6
DTSTAMP:20260421T114223Z
DTSTART:20260421T123000Z
DTEND:20260421T140000Z
LOCATION:Fotballhallen
SUMMARY:MJØNDALEN IF IFO
DESCRIPTION:\nhttps://mjondalshallen.no/arrangementer/mif-ifo-11/var/ri-34.
 l-L1
URL:https://mjondalshallen.no/arrangementer/mif-ifo-11/var/ri-34.l-L1
END:VEVENT
END:VCALENDAR