BEGIN:VCALENDAR
VERSION:2.0
PRODID:-//eventon.com NONSGML v1.0//EN
CALSCALE:GREGORIAN
METHOD:PUBLISH
BEGIN:VEVENT
UID:69eb633c4b75b
DTSTAMP:20260424T123404Z
DTSTART:20260424T140000Z
DTEND:20260424T163000Z
LOCATION:Flerbrukshallen
SUMMARY:MJØNDALEN IF HÅNDBALL
DESCRIPTION:\nhttps://mjondalshallen.no/arrangementer/mjondalen-if-handball
 -4/var/ri-13.l-L1
URL:https://mjondalshallen.no/arrangementer/mjondalen-if-handball-4/var/ri-13.l-L1
END:VEVENT
END:VCALENDAR