BEGIN:VCALENDAR
VERSION:2.0
PRODID:-//eventon.com NONSGML v1.0//EN
CALSCALE:GREGORIAN
METHOD:PUBLISH
BEGIN:VEVENT
UID:69ea46781df15
DTSTAMP:20260423T161904Z
DTSTART:20260421T140000Z
DTEND:20260421T200000Z
LOCATION:Flerbrukshallen
SUMMARY:MJØNDALEN IF HÅNDBALL
DESCRIPTION:\nhttps://mjondalshallen.no/arrangementer/mjondalen-if-handball
 -3/var/ri-29.l-L1
URL:https://mjondalshallen.no/arrangementer/mjondalen-if-handball-3/var/ri-29.l-L1
END:VEVENT
END:VCALENDAR