BEGIN:VCALENDAR
VERSION:2.0
PRODID:-//eventon.com NONSGML v1.0//EN
CALSCALE:GREGORIAN
METHOD:PUBLISH
BEGIN:VEVENT
UID:69ea61fce5437
DTSTAMP:20260423T181628Z
DTSTART:20260416T140000Z
DTEND:20260416T200000Z
LOCATION:Flerbrukshallen
SUMMARY:MJØNDALEN IF HÅNDBALL
DESCRIPTION:\nhttps://mjondalshallen.no/arrangementer/mjondalen-if-handball
 -3/var/ri-28.l-L1
URL:https://mjondalshallen.no/arrangementer/mjondalen-if-handball-3/var/ri-28.l-L1
END:VEVENT
END:VCALENDAR