BEGIN:VCALENDAR
VERSION:2.0
PRODID:-//eventon.com NONSGML v1.0//EN
CALSCALE:GREGORIAN
METHOD:PUBLISH
BEGIN:VEVENT
UID:69eabf7b8ec1b
DTSTAMP:20260424T005523Z
DTSTART:20260331T140000Z
DTEND:20260331T200000Z
LOCATION:Flerbrukshallen
SUMMARY:MJØNDALEN IF HÅNDBALL
DESCRIPTION:\nhttps://mjondalshallen.no/arrangementer/mjondalen-if-handball
 -3/var/ri-24.l-L1
URL:https://mjondalshallen.no/arrangementer/mjondalen-if-handball-3/var/ri-24.l-L1
END:VEVENT
END:VCALENDAR