BEGIN:VCALENDAR
VERSION:2.0
PRODID:-//eventon.com NONSGML v1.0//EN
CALSCALE:GREGORIAN
METHOD:PUBLISH
BEGIN:VEVENT
UID:69eaeb40bc969
DTSTAMP:20260424T040208Z
DTSTART:20260324T150000Z
DTEND:20260324T210000Z
LOCATION:Flerbrukshallen
SUMMARY:MJØNDALEN IF HÅNDBALL
DESCRIPTION:\nhttps://mjondalshallen.no/arrangementer/mjondalen-if-handball
 -3/var/ri-22.l-L1
URL:https://mjondalshallen.no/arrangementer/mjondalen-if-handball-3/var/ri-22.l-L1
END:VEVENT
END:VCALENDAR