BEGIN:VCALENDAR
VERSION:2.0
PRODID:-//eventon.com NONSGML v1.0//EN
CALSCALE:GREGORIAN
METHOD:PUBLISH
BEGIN:VEVENT
UID:69ece24143882
DTSTAMP:20260425T154817Z
DTSTART:20260106T150000Z
DTEND:20260106T210000Z
LOCATION:Flerbrukshallen
SUMMARY:MJØNDALEN IF HÅNDBALL
DESCRIPTION:\nhttps://mjondalshallen.no/arrangementer/mjondalen-if-handball
 -3/
URL:https://mjondalshallen.no/arrangementer/mjondalen-if-handball-3/
END:VEVENT
END:VCALENDAR