BEGIN:VCALENDAR
VERSION:2.0
PRODID:-//eventon.com NONSGML v1.0//EN
CALSCALE:GREGORIAN
METHOD:PUBLISH
BEGIN:VEVENT
UID:69e8c0f3068dd
DTSTAMP:20260422T123707Z
DTSTART:20260422T140000Z
DTEND:20260422T200000Z
LOCATION:Flerbrukshallen
SUMMARY:NOR 92 INNEBANDY
DESCRIPTION:\nhttps://mjondalshallen.no/arrangementer/nor-92-innebandy/var/
 ri-31.l-L1
URL:https://mjondalshallen.no/arrangementer/nor-92-innebandy/var/ri-31.l-L1
END:VEVENT
END:VCALENDAR