BEGIN:VCALENDAR
VERSION:2.0
PRODID:-//eventon.com NONSGML v1.0//EN
CALSCALE:GREGORIAN
METHOD:PUBLISH
BEGIN:VEVENT
UID:69ecc16c317d1
DTSTAMP:20260425T132812Z
DTSTART:20260425T190000Z
DTEND:20260425T203000Z
LOCATION:Fotballhallen
SUMMARY:SEMIH POLAT
DESCRIPTION:HALV BANE\nhttps://mjondalshallen.no/arrangementer/semih-polat-
 5/var/ri-23.l-L1
URL:https://mjondalshallen.no/arrangementer/semih-polat-5/var/ri-23.l-L1
END:VEVENT
END:VCALENDAR