BEGIN:VCALENDAR
VERSION:2.0
PRODID:-//eventon.com NONSGML v1.0//EN
CALSCALE:GREGORIAN
METHOD:PUBLISH
BEGIN:VEVENT
UID:69e4c5f6421d0
DTSTAMP:20260419T120926Z
DTSTART:20260327T130000Z
DTEND:20260327T150000Z
LOCATION:Fotballhallen
SUMMARY:ÅPEN IDRETTSHALL
DESCRIPTION:\nhttps://mjondalshallen.no/arrangementer/apen-idrettshall-14/v
 ar/ri-52.l-L1
URL:https://mjondalshallen.no/arrangementer/apen-idrettshall-14/var/ri-52.l-L1
END:VEVENT
END:VCALENDAR