BEGIN:VCALENDAR
VERSION:2.0
PRODID:-//eventon.com NONSGML v1.0//EN
CALSCALE:GREGORIAN
METHOD:PUBLISH
BEGIN:VEVENT
UID:69e7546b0c5f9
DTSTAMP:20260421T104147Z
DTSTART:20260325T130000Z
DTEND:20260325T150000Z
LOCATION:Fotballhallen
SUMMARY:ÅPEN IDRETTSHALL
DESCRIPTION:\nhttps://mjondalshallen.no/arrangementer/apen-idrettshall-14/v
 ar/ri-51.l-L1
URL:https://mjondalshallen.no/arrangementer/apen-idrettshall-14/var/ri-51.l-L1
END:VEVENT
END:VCALENDAR