BEGIN:VCALENDAR
VERSION:2.0
PRODID:-//eventon.com NONSGML v1.0//EN
CALSCALE:GREGORIAN
METHOD:PUBLISH
BEGIN:VEVENT
UID:69e77353843e4
DTSTAMP:20260421T125339Z
DTSTART:20260323T130000Z
DTEND:20260323T150000Z
LOCATION:Fotballhallen
SUMMARY:ÅPEN IDRETTSHALL
DESCRIPTION:\nhttps://mjondalshallen.no/arrangementer/apen-idrettshall-14/v
 ar/ri-50.l-L1
URL:https://mjondalshallen.no/arrangementer/apen-idrettshall-14/var/ri-50.l-L1
END:VEVENT
END:VCALENDAR