BEGIN:VCALENDAR
VERSION:2.0
PRODID:-//eventon.com NONSGML v1.0//EN
CALSCALE:GREGORIAN
METHOD:PUBLISH
BEGIN:VEVENT
UID:69e7a39732bf3
DTSTAMP:20260421T161935Z
DTSTART:20260318T130000Z
DTEND:20260318T150000Z
LOCATION:Fotballhallen
SUMMARY:ÅPEN IDRETTSHALL
DESCRIPTION:\nhttps://mjondalshallen.no/arrangementer/apen-idrettshall-14/v
 ar/ri-48.l-L1
URL:https://mjondalshallen.no/arrangementer/apen-idrettshall-14/var/ri-48.l-L1
END:VEVENT
END:VCALENDAR