BEGIN:VCALENDAR
VERSION:2.0
PRODID:-//eventon.com NONSGML v1.0//EN
CALSCALE:GREGORIAN
METHOD:PUBLISH
BEGIN:VEVENT
UID:69e7d4ab5cd6e
DTSTAMP:20260421T194859Z
DTSTART:20260313T130000Z
DTEND:20260313T150000Z
LOCATION:Fotballhallen
SUMMARY:ÅPEN IDRETTSHALL
DESCRIPTION:\nhttps://mjondalshallen.no/arrangementer/apen-idrettshall-14/v
 ar/ri-46.l-L1
URL:https://mjondalshallen.no/arrangementer/apen-idrettshall-14/var/ri-46.l-L1
END:VEVENT
END:VCALENDAR