BEGIN:VCALENDAR
VERSION:2.0
PRODID:-//eventon.com NONSGML v1.0//EN
CALSCALE:GREGORIAN
METHOD:PUBLISH
BEGIN:VEVENT
UID:69e8017db2b2e
DTSTAMP:20260421T230013Z
DTSTART:20260309T130000Z
DTEND:20260309T150000Z
LOCATION:Fotballhallen
SUMMARY:ÅPEN IDRETTSHALL
DESCRIPTION:\nhttps://mjondalshallen.no/arrangementer/apen-idrettshall-14/v
 ar/ri-44.l-L1
URL:https://mjondalshallen.no/arrangementer/apen-idrettshall-14/var/ri-44.l-L1
END:VEVENT
END:VCALENDAR