BEGIN:VCALENDAR
VERSION:2.0
PRODID:-//eventon.com NONSGML v1.0//EN
CALSCALE:GREGORIAN
METHOD:PUBLISH
BEGIN:VEVENT
UID:69e834be3141e
DTSTAMP:20260422T023854Z
DTSTART:20260304T130000Z
DTEND:20260304T150000Z
LOCATION:Fotballhallen
SUMMARY:ÅPEN IDRETTSHALL
DESCRIPTION:\nhttps://mjondalshallen.no/arrangementer/apen-idrettshall-14/v
 ar/ri-42.l-L1
URL:https://mjondalshallen.no/arrangementer/apen-idrettshall-14/var/ri-42.l-L1
END:VEVENT
END:VCALENDAR