BEGIN:VCALENDAR
VERSION:2.0
PRODID:-//eventon.com NONSGML v1.0//EN
CALSCALE:GREGORIAN
METHOD:PUBLISH
BEGIN:VEVENT
UID:69e8a72d45069
DTSTAMP:20260422T104709Z
DTSTART:20260213T130000Z
DTEND:20260213T150000Z
LOCATION:Fotballhallen
SUMMARY:ÅPEN IDRETTSHALL
DESCRIPTION:\nhttps://mjondalshallen.no/arrangementer/apen-idrettshall-14/v
 ar/ri-37.l-L1
URL:https://mjondalshallen.no/arrangementer/apen-idrettshall-14/var/ri-37.l-L1
END:VEVENT
END:VCALENDAR