BEGIN:VCALENDAR
VERSION:2.0
PRODID:-//eventon.com NONSGML v1.0//EN
CALSCALE:GREGORIAN
METHOD:PUBLISH
BEGIN:VEVENT
UID:69e8e07d7c891
DTSTAMP:20260422T145141Z
DTSTART:20260209T130000Z
DTEND:20260209T150000Z
LOCATION:Fotballhallen
SUMMARY:ÅPEN IDRETTSHALL
DESCRIPTION:\nhttps://mjondalshallen.no/arrangementer/apen-idrettshall-14/v
 ar/ri-35.l-L1
URL:https://mjondalshallen.no/arrangementer/apen-idrettshall-14/var/ri-35.l-L1
END:VEVENT
END:VCALENDAR