BEGIN:VCALENDAR
VERSION:2.0
PRODID:-//eventon.com NONSGML v1.0//EN
CALSCALE:GREGORIAN
METHOD:PUBLISH
BEGIN:VEVENT
UID:69e8f5e693e03
DTSTAMP:20260422T162302Z
DTSTART:20260206T130000Z
DTEND:20260206T150000Z
LOCATION:Fotballhallen
SUMMARY:ÅPEN IDRETTSHALL
DESCRIPTION:\nhttps://mjondalshallen.no/arrangementer/apen-idrettshall-14/v
 ar/ri-34.l-L1
URL:https://mjondalshallen.no/arrangementer/apen-idrettshall-14/var/ri-34.l-L1
END:VEVENT
END:VCALENDAR