BEGIN:VCALENDAR
VERSION:2.0
PRODID:-//eventon.com NONSGML v1.0//EN
CALSCALE:GREGORIAN
METHOD:PUBLISH
BEGIN:VEVENT
UID:69e9120c3fb46
DTSTAMP:20260422T182308Z
DTSTART:20260204T130000Z
DTEND:20260204T150000Z
LOCATION:Fotballhallen
SUMMARY:ÅPEN IDRETTSHALL
DESCRIPTION:\nhttps://mjondalshallen.no/arrangementer/apen-idrettshall-14/v
 ar/ri-33.l-L1
URL:https://mjondalshallen.no/arrangementer/apen-idrettshall-14/var/ri-33.l-L1
END:VEVENT
END:VCALENDAR