BEGIN:VCALENDAR
VERSION:2.0
PRODID:-//eventon.com NONSGML v1.0//EN
CALSCALE:GREGORIAN
METHOD:PUBLISH
BEGIN:VEVENT
UID:69e9ab520664d
DTSTAMP:20260423T051706Z
DTSTART:20260121T130000Z
DTEND:20260121T150000Z
LOCATION:Fotballhallen
SUMMARY:ÅPEN IDRETTSHALL
DESCRIPTION:\nhttps://mjondalshallen.no/arrangementer/apen-idrettshall-14/v
 ar/ri-27.l-L1
URL:https://mjondalshallen.no/arrangementer/apen-idrettshall-14/var/ri-27.l-L1
END:VEVENT
END:VCALENDAR