BEGIN:VCALENDAR
VERSION:2.0
PRODID:-//eventon.com NONSGML v1.0//EN
CALSCALE:GREGORIAN
METHOD:PUBLISH
BEGIN:VEVENT
UID:69e9d8cccafe8
DTSTAMP:20260423T083108Z
DTSTART:20260116T130000Z
DTEND:20260116T150000Z
LOCATION:Fotballhallen
SUMMARY:ÅPEN IDRETTSHALL
DESCRIPTION:\nhttps://mjondalshallen.no/arrangementer/apen-idrettshall-14/v
 ar/ri-25.l-L1
URL:https://mjondalshallen.no/arrangementer/apen-idrettshall-14/var/ri-25.l-L1
END:VEVENT
END:VCALENDAR