BEGIN:VCALENDAR
VERSION:2.0
PRODID:-//eventon.com NONSGML v1.0//EN
CALSCALE:GREGORIAN
METHOD:PUBLISH
BEGIN:VEVENT
UID:69ea020d87d62
DTSTAMP:20260423T112709Z
DTSTART:20260112T130000Z
DTEND:20260112T150000Z
LOCATION:Fotballhallen
SUMMARY:ÅPEN IDRETTSHALL
DESCRIPTION:\nhttps://mjondalshallen.no/arrangementer/apen-idrettshall-14/v
 ar/ri-23.l-L1
URL:https://mjondalshallen.no/arrangementer/apen-idrettshall-14/var/ri-23.l-L1
END:VEVENT
END:VCALENDAR