BEGIN:VCALENDAR
VERSION:2.0
PRODID:-//eventon.com NONSGML v1.0//EN
CALSCALE:GREGORIAN
METHOD:PUBLISH
BEGIN:VEVENT
UID:69ea4b7a7502a
DTSTAMP:20260423T164026Z
DTSTART:20260105T130000Z
DTEND:20260105T150000Z
LOCATION:Fotballhallen
SUMMARY:ÅPEN IDRETTSHALL
DESCRIPTION:\nhttps://mjondalshallen.no/arrangementer/apen-idrettshall-14/v
 ar/ri-20.l-L1
URL:https://mjondalshallen.no/arrangementer/apen-idrettshall-14/var/ri-20.l-L1
END:VEVENT
END:VCALENDAR