BEGIN:VCALENDAR
VERSION:2.0
PRODID:-//eventon.com NONSGML v1.0//EN
CALSCALE:GREGORIAN
METHOD:PUBLISH
BEGIN:VEVENT
UID:69ea919ab19a7
DTSTAMP:20260423T213938Z
DTSTART:20251215T130000Z
DTEND:20251215T150000Z
LOCATION:Fotballhallen
SUMMARY:ÅPEN IDRETTSHALL
DESCRIPTION:\nhttps://mjondalshallen.no/arrangementer/apen-idrettshall-14/v
 ar/ri-17.l-L1
URL:https://mjondalshallen.no/arrangementer/apen-idrettshall-14/var/ri-17.l-L1
END:VEVENT
END:VCALENDAR