BEGIN:VCALENDAR
VERSION:2.0
PRODID:-//eventon.com NONSGML v1.0//EN
CALSCALE:GREGORIAN
METHOD:PUBLISH
BEGIN:VEVENT
UID:69ead397d64e3
DTSTAMP:20260424T022111Z
DTSTART:20251208T130000Z
DTEND:20251208T150000Z
LOCATION:Fotballhallen
SUMMARY:ÅPEN IDRETTSHALL
DESCRIPTION:\nhttps://mjondalshallen.no/arrangementer/apen-idrettshall-14/v
 ar/ri-14.l-L1
URL:https://mjondalshallen.no/arrangementer/apen-idrettshall-14/var/ri-14.l-L1
END:VEVENT
END:VCALENDAR