BEGIN:VCALENDAR
VERSION:2.0
PRODID:-//eventon.com NONSGML v1.0//EN
CALSCALE:GREGORIAN
METHOD:PUBLISH
BEGIN:VEVENT
UID:69eb043d331cb
DTSTAMP:20260424T054845Z
DTSTART:20251203T130000Z
DTEND:20251203T150000Z
LOCATION:Fotballhallen
SUMMARY:ÅPEN IDRETTSHALL
DESCRIPTION:\nhttps://mjondalshallen.no/arrangementer/apen-idrettshall-14/v
 ar/ri-12.l-L1
URL:https://mjondalshallen.no/arrangementer/apen-idrettshall-14/var/ri-12.l-L1
END:VEVENT
END:VCALENDAR