BEGIN:VCALENDAR
VERSION:2.0
PRODID:-//eventon.com NONSGML v1.0//EN
CALSCALE:GREGORIAN
METHOD:PUBLISH
BEGIN:VEVENT
UID:69eb19b71fc7a
DTSTAMP:20260424T072023Z
DTSTART:20251201T130000Z
DTEND:20251201T150000Z
LOCATION:Fotballhallen
SUMMARY:ÅPEN IDRETTSHALL
DESCRIPTION:\nhttps://mjondalshallen.no/arrangementer/apen-idrettshall-14/v
 ar/ri-11.l-L1
URL:https://mjondalshallen.no/arrangementer/apen-idrettshall-14/var/ri-11.l-L1
END:VEVENT
END:VCALENDAR