BEGIN:VCALENDAR
VERSION:2.0
PRODID:-//eventon.com NONSGML v1.0//EN
CALSCALE:GREGORIAN
METHOD:PUBLISH
BEGIN:VEVENT
UID:69eb62bfd21c7
DTSTAMP:20260424T123159Z
DTSTART:20260424T120000Z
DTEND:20260424T140000Z
LOCATION:Flerbrukshallen
SUMMARY:ÅPEN IDRETTSHALL
DESCRIPTION:\nhttps://mjondalshallen.no/arrangementer/apen-idrettshall-13/v
 ar/ri-59.l-L1
URL:https://mjondalshallen.no/arrangementer/apen-idrettshall-13/var/ri-59.l-L1
END:VEVENT
END:VCALENDAR