BEGIN:VCALENDAR
VERSION:2.0
PRODID:-//eventon.com NONSGML v1.0//EN
CALSCALE:GREGORIAN
METHOD:PUBLISH
BEGIN:VEVENT
UID:69e58599b5c9c
DTSTAMP:20260420T014705Z
DTSTART:20260420T120000Z
DTEND:20260420T140000Z
LOCATION:Flerbrukshallen
SUMMARY:ÅPEN IDRETTSHALL
DESCRIPTION:\nhttps://mjondalshallen.no/arrangementer/apen-idrettshall-13/v
 ar/ri-57.l-L1
URL:https://mjondalshallen.no/arrangementer/apen-idrettshall-13/var/ri-57.l-L1
END:VEVENT
END:VCALENDAR