BEGIN:VCALENDAR
VERSION:2.0
PRODID:-//eventon.com NONSGML v1.0//EN
CALSCALE:GREGORIAN
METHOD:PUBLISH
BEGIN:VEVENT
UID:69e761c719a6f
DTSTAMP:20260421T113847Z
DTSTART:20260421T110000Z
DTEND:20260421T123000Z
LOCATION:Flerbrukshallen
SUMMARY:VEIAVANGEN SKOLE
DESCRIPTION:\nhttps://mjondalshallen.no/arrangementer/veiavangen-skole-23/v
 ar/ri-30.l-L1
URL:https://mjondalshallen.no/arrangementer/veiavangen-skole-23/var/ri-30.l-L1
END:VEVENT
END:VCALENDAR