BEGIN:VCALENDAR
VERSION:2.0
PRODID:-//eventon.com NONSGML v1.0//EN
CALSCALE:GREGORIAN
METHOD:PUBLISH
BEGIN:VEVENT
UID:69e583e6242c2
DTSTAMP:20260420T013950Z
DTSTART:20260420T060000Z
DTEND:20260420T120000Z
LOCATION:Fotballhallen
SUMMARY:VEIAVANGEN SKOLE
DESCRIPTION:\nhttps://mjondalshallen.no/arrangementer/veiavangen-skole-19/v
 ar/ri-87.l-L1
URL:https://mjondalshallen.no/arrangementer/veiavangen-skole-19/var/ri-87.l-L1
END:VEVENT
END:VCALENDAR