BEGIN:VCALENDAR
VERSION:2.0
PRODID:-//eventon.com NONSGML v1.0//EN
CALSCALE:GREGORIAN
METHOD:PUBLISH
BEGIN:VEVENT
UID:69ecbeae4f4ca
DTSTAMP:20260425T131630Z
DTSTART:20260427T060000Z
DTEND:20260427T120000Z
LOCATION:Flerbrukshallen
SUMMARY:VEIAVANGEN SKOLE
DESCRIPTION:\nhttps://mjondalshallen.no/arrangementer/veiavangen-skole-18/v
 ar/ri-89.l-L1
URL:https://mjondalshallen.no/arrangementer/veiavangen-skole-18/var/ri-89.l-L1
END:VEVENT
END:VCALENDAR