BEGIN:VCALENDAR
VERSION:2.0
PRODID:-//eventon.com NONSGML v1.0//EN
CALSCALE:GREGORIAN
METHOD:PUBLISH
BEGIN:VEVENT
UID:69ea138289357
DTSTAMP:20260423T124138Z
DTSTART:20260424T060000Z
DTEND:20260424T120000Z
LOCATION:Flerbrukshallen
SUMMARY:VEIAVANGEN SKOLE
DESCRIPTION:\nhttps://mjondalshallen.no/arrangementer/veiavangen-skole-18/v
 ar/ri-88.l-L1
URL:https://mjondalshallen.no/arrangementer/veiavangen-skole-18/var/ri-88.l-L1
END:VEVENT
END:VCALENDAR